BEGIN:VCALENDAR
VERSION:2.0
PRODID:http://www.marmara.at/
METHOD:PUBLISH
BEGIN:VEVENT
LOCATION:Parkplatz beim Symposium Lindabrunn 2551 Hernsteinerstraße 
UID:9601
CLASS:PUBLIC
SUMMARY:Bunte Steppe und Skulpturen
DTSTART:20260423T170000
DTEND:20260423T190000
DTSTAMP:20260422T154724Z
DESCRIPTION:Das Symposion in Lindabrunn ist an der Thermenlinie nach der Perchtoldsdorfer Heide das zweitgrößte großflächig zusammenhängende Trockenrasengebiet mit zahlreichen seltenen Tier- und Pflanzenarten wie Große Kuhschelle, Frühlings-Adonis, Österreich-Kranzenzian, Gelb-Lein, der seltenen Quendel-Schnecke und der erst 2020 entdeckten Gelb-Leinbiene.

Landschaftlich beeindruckend ist die Mischung aus wertvoller Natur und den zahlreichen Skulpturen aus Lindabrunner Konglomerat. Entdecke gemeinsam mit Biologinnen und Biologen die Vielfalt und die faszinierenden Anpassungen zum Überleben in der Steppe an der Thermenlinie, einem der artenreichsten Gebiete Mitteleuropas.

END:VEVENT
END:VCALENDAR
