BEGIN:VCALENDAR
VERSION:2.0
PRODID:http://www.marmara.at/
METHOD:PUBLISH
BEGIN:VEVENT
LOCATION:Aula am Campus der Universität Wien, Hof 1.11 1090 Spitalgasse 2
UID:9598
CLASS:PUBLIC
SUMMARY:Spannungsfeld Boden
DTSTART:20260423T180000
DTEND:20260423T200000
DTSTAMP:20260420T152152Z
DESCRIPTION:Der Boden ist eine zentrale Ressource für Klimaschutz, Biodiversität und nachhaltige Entwicklung. Gleichzeitig steht er zunehmend unter Druck durch Flächenverbrauch, Versiegelung und Nutzungsansprüche. Das Zukunftsgespräch „Spannungsfeld Boden“ widmet sich diesen Herausforderungen und beleuchtet Zielkonflikte sowie Lösungsansätze für einen verantwortungsvollen Umgang mit der Ressource Boden.

Die Veranstaltung ist Teil der Reihe „Dialog für den Wandel“ des Umweltbundesamt und bringt Wissenschaft, Praxis, Verwaltung und Zivilgesellschaft in den Austausch. Ziel ist es, unterschiedliche Perspektiven zusammenzuführen und gemeinsam tragfähige Wege für eine nachhaltige Boden- und Raumentwicklung in Österreich zu diskutieren.

Im Fokus stehen Fragen wie:


	Wie kann der Flächenverbrauch reduziert werden?
	Welche Rolle spielt Boden für Klimaanpassung und Wasserspeicherung?
	Wie lassen sich Raumplanung, Nutzung und Schutz besser in Einklang bringen?


Das Zukunftsgespräch bietet Raum für Impulsvorträge, Diskussion und Beteiligung und richtet sich an Gemeinden, Planer:innen, Fachleute aus Umwelt- und Naturschutz sowie alle Interessierten an einer nachhaltigen Entwicklung.

Die Veranstaltung leistet einen Beitrag zur Bewusstseinsbildung und Vernetzung rund um das Thema Bodenschutz und unterstützt die Entwicklung gemeinsamer Lösungen für die Zukunft.

END:VEVENT
END:VCALENDAR
