BEGIN:VCALENDAR
VERSION:2.0
PRODID:http://www.marmara.at/
METHOD:PUBLISH
BEGIN:VEVENT
LOCATION:VAZ Tulbing 3434 Tullnerstraße 4
UID:9289
CLASS:PUBLIC
SUMMARY:Natur im Wandel: Invasive Neophyten
DTSTART:20260309T183000
DTEND:20260309T080000
DTSTAMP:20260423T101438Z
DESCRIPTION:Die Veranstaltung widmet sich dem Thema invasive Neophyten – insbesondere Staudenknöterich und Ragweed – und beleuchtet deren Auswirkungen auf Biodiversität, Gewässer, Wald und Kulturlandschaft. Expertinnen und Experten aus Wissenschaft, Praxis und Verwaltung geben Einblicke in aktuelle Entwicklungen sowie in konkrete Handlungsansätze:


	Aktuelle Erkenntnisse aus Forschung & Praxis
	Erfahrungen aus betroffenen Gemeinden im Umgang mit invasiven Arten
	Podiumsdiskussion & Infostände
	Für regionale Verpflegung ist gesorgt.


END:VEVENT
END:VCALENDAR
