BEGIN:VCALENDAR
VERSION:2.0
PRODID:http://www.marmara.at/
METHOD:PUBLISH
BEGIN:VEVENT
LOCATION:Treffpunkt: Parkplatz Gamshöhe Bisamberg 2102 - 
UID:8350
CLASS:PUBLIC
SUMMARY:Die Trockenrasen des Bisambergs
DTSTART:20240531T170000
DTEND:20240531T200000
DTSTAMP:20260422T195829Z
DESCRIPTION:Die Woche der Artenvielfalt holt die Naturschätze im Naturland Niederösterreich vor den Vorhang. Um die außergewöhnliche Natur- und Artenvielfalt vor der Haustüre erlebbar zu machen, werden von Mai bis Juni 2024 in ganz Niederösterreich Wanderungen zu herausragenden Lebensräumen in unserer Kultur- und Naturlandschaft angeboten.

Die Wanderung führt auf den Bisamberg, einem der artenreichsten Schutzgebiete Ostösterreichs. Die Vielfalt an Lebensräumen ist erstaunlich! Von blütenreichen, savannenartigen Halbtrockenrasen über wärmegetönte, lockere Strauchbestände bis hin zu sonnendurchfluteten Eichenwäldern ist hier alles zu finden.

In diesem Europaschutzgebiet fanden in den vergangenen Jahren und Jahrzehnten umfangreiche Pflegemaßnahmen statt, von Entbuschung bis hin zu Beweidung. Warum dies notwendig ist und welche Effekte davon zu erwarten sind, ist ebenso Schwerpunkt der Exkursion wie die Suche nach den Besonderheiten des Bisambergs.

END:VEVENT
END:VCALENDAR
