BEGIN:VCALENDAR
VERSION:2.0
PRODID:http://www.marmara.at/
METHOD:PUBLISH
BEGIN:VEVENT
LOCATION:Treffpunkt: Parkplatz Gasthaus Traxler 3950 Grillensteinerstraße 9
UID:8346
CLASS:PUBLIC
SUMMARY:Entwicklung der Kulturlandschaft der Blockheide Eibenstein 
DTSTART:20240526T093000
DTEND:20240526T120000
DTSTAMP:20260422T185713Z
DESCRIPTION:Die Woche der Artenvielfalt holt die Naturschätze im Naturland Niederösterreich vor den Vorhang. Um die außergewöhnliche Natur- und Artenvielfalt vor der Haustüre erlebbar zu machen, werden von Mai bis Juni 2024 in ganz Niederösterreich Wanderungen zu herausragenden Lebensräumen in unserer Kultur- und Naturlandschaft angeboten.

Wandern Sie mit uns durch die Kulturlandschaft des Naturparks und des Naturschutzgebietes der Blockheide Gmünd-Eibenstein. Entdecken Sie die wertvollen Lebensräume rund um die Granitrestlinge und erfahren Sie mehr über die vor Ort vorkommenden Tier- und Pflanzenarten wie den Wiesenknopf-Ameisen-Bläuling, den Kleinen Heidegrashüpfer, diverse Orchideen sowie die Frühlingskuhschelle.

Auf einigen Flächen der Blockheide wird seit dem Jahr 2022 im Zuge eines von Land NÖ und EU geförderten Projekts beweidet. Bei der Wanderung erhalten Sie nähere Informationen zum Beweidungsprojekt, welches das Ziel hat der zunehmenden Verbuschung entgegenzuwirken und den typischen Heidecharakter mit Offenlandschaft wiederherzustellen.

END:VEVENT
END:VCALENDAR
