BEGIN:VCALENDAR
VERSION:2.0
PRODID:http://www.marmara.at/
METHOD:PUBLISH
BEGIN:VEVENT
LOCATION:Treffpunkt wird bei Anmeldung bekanntgegeben   
UID:8345
CLASS:PUBLIC
SUMMARY:Blumenwiesen am Rindfleischberg
DTSTART:20240525T140000
DTEND:20240525T170000
DTSTAMP:20260422T185359Z
DESCRIPTION:Die Woche der Artenvielfalt holt die Naturschätze im Naturland Niederösterreich vor den Vorhang. Um die außergewöhnliche Natur- und Artenvielfalt vor der Haustüre erlebbar zu machen, werden von Mai bis Juni 2024 in ganz Niederösterreich Wanderungen zu herausragenden Lebensräumen in unserer Kultur- und Naturlandschaft angeboten.

Wandern Sie mit uns durch die alte Weingartenlandschaft am Rindfleischberg und entdecken Sie die bunte Vielfalt der Blumenwiesen. Lernen Sie eine Vielzahl an Blumen wie die Wiesen-Orchideen kennen und erfahren Sie mehr über seltene Tierarten wie dem Osterluzei-Falter oder die Smaragdeidechse.

Die Wiesen-Landschaft am Rindfleischberg stellt das Herzstück des Europaschutzgebietes „Strudengau – Nibelungenbau dar. Durch die extensive Nutzung der Wiesen wird der Lebensraum für die Fauna und Flora erhalten. Erfahren Sie mehr über die Zusammenhänge von Landwirtschaft und Naturschutz anhand der Schafbeweidung vor Ort.

END:VEVENT
END:VCALENDAR
