BEGIN:VCALENDAR
VERSION:2.0
PRODID:http://www.marmara.at/
METHOD:PUBLISH
BEGIN:VEVENT
LOCATION:Energie- und Umweltagentur 3100 Grenzgasse 10 
UID:8141
CLASS:PUBLIC
SUMMARY:Basiskurs Trinkwasser­­versorger­­­schulung        
DTSTART:20241009T090000
DTEND:20241009T170000
DTSTAMP:20260422T122052Z
DESCRIPTION:Dieser Kurs gilt als fachliche Schulung des Personals für Wasserversorgungsanlagen, die bis zu 10 m3 Trinkwasser pro Tag abgeben. Die österreichische Gesetzeslage verlangt, dass eine Wasserversorgungsanlage von fachlich geschulten Personen zu errichten, zu warten und instand zu halten ist.
Neben aktuellen rechtlichen Vorschriften werden nötige Kontroll- und Wartungsarbeiten für Brunnen, Quellen und Verteilungsnetze erörtert. Vorlagen für Behörden-verständigungen und für die Dokumentation des Anlagenbetriebes erleichtern die Umsetzung in der Praxis.

Das Schulungsprojekt läuft in Kooperation mit dem ÖVGW (Österreichische Vereinigung für das Gas- und Wasserfach) und dem Amt der NÖ Landesregierung - Abteilung Umwelthygiene.

END:VEVENT
END:VCALENDAR
