BEGIN:VCALENDAR
VERSION:2.0
PRODID:http://www.marmara.at/
METHOD:PUBLISH
BEGIN:VEVENT
LOCATION:Online-Veranstaltung via ZOOM - - 
UID:6569
CLASS:PUBLIC
SUMMARY:SUM-Konferenz 2021 – „Stadtregion 2035 – Quo vadis?“
DTSTART:20211123T163000
DTEND:20211123T174500
DTSTAMP:20260421T061418Z
DESCRIPTION:Die Stadt Wien und das niederösterreichische Umland stehen vor großen Herausforderungen und nicht wenige davon sind unmittelbar mit Fragen der Raumentwicklung verknüpft. Die SUM-Konferenz 2021 - wie schon im Coronajahr 2020 ein Veranstaltungsbogen - macht einige dringliche Aspekte des anstehenden Veränderungsbedarfs in der Stadtregion zum Thema. Es geht um Klimaneutralität, gesellschaftlichen Wandel und um die Bewahrung der natürlichen Ressourcen der Stadtregion.

Gedanklicher Ausgangspunkt der SUM-Konferenz 2021 ist das Jahr 2035. Die Themensammlung und deren Vertiefung erfolgt in Webinaren anhand der Fragen "Was müssen wir bis 2035 getan haben?" und "Wie kann stadtregionale Zusammenarbeit den Wandel unterstützen?" Die aufgeworfenen Themen, Fragen und Antworten werden, sofern es die Situation erlaubt, in eine abschließende Präsenzveranstaltung eingespielt.
 

END:VEVENT
END:VCALENDAR
