BEGIN:VCALENDAR
VERSION:2.0
PRODID:http://www.marmara.at/
METHOD:PUBLISH
BEGIN:VEVENT
LOCATION:Außenstelle Österreichische Vogelwarte 3484 Hauptstraße 68
UID:6240
CLASS:PUBLIC
SUMMARY:Schillernd, klangvoll aber selten
DTSTART:20210408T160000
DTEND:20210408T190000
DTSTAMP:20260420T023844Z
DESCRIPTION:Die Weinviertler Terrassenlandschaften an der Donau zählen zu den interessantesten Landschaften Österreichs. Zu den prägenden Bewohnern dieser einzigartigen Landschaft gehören selten gewordene Vogelarten. In der Fortbildungsveranstaltung geht es jedoch nicht darum, die Seltenheit einzelner Arten zu bedauern. Vielmehr wird auf das enorme ökologische Potential der Landschaft als ornithologisches Kleinod verwiesen. Weshalb haben sich andernorts bereits ausgestorbene Vögel wie der Steinkauz, der Wiedehopf oder die Heidelerche am Wagram gehalten? Können Kellergassen und die sie umgebende Weingärten eine Trendumkehr im Artenschwund bewirken und worauf ist bei der
Bewirtschaftung in diesem Zusammenhang zu achten?

Gemeinsam ergründen wir die ökologischen Zusammenhänge und können aufzeigen, weshalb die meisten Winzer einen enormen Beitrag zum Artenschutz in unserem Land leisten.

END:VEVENT
END:VCALENDAR
