BEGIN:VCALENDAR
VERSION:2.0
PRODID:http://www.marmara.at/
METHOD:PUBLISH
BEGIN:VEVENT
LOCATION:Gemeindeamt Vals 6154 St. Jodok 2
UID:5264
CLASS:PUBLIC
SUMMARY:Mit LandwirtInnen in unserem Schutzgebiet unterwegs
DTSTART:20190917T103000
DTEND:20190917T163000
DTSTAMP:20260422T002737Z
DESCRIPTION:SchutzgebietsbetreuerInnen treffen in ihrer Arbeit auf AkteurInnen mit unterschiedlichen Interessen rund ums Schutzgebiet und seinen Schutzgütern. AkteurInnen, die oft „unterschiedliche Sprachen sprechen“: Begriffe, die für eine Gruppe völlig selbstverständlich sind, können bei der anderen anders verstanden werden und zu Missverständnissen führen. Bei gemeinsamen Besuchen wertvoller Naturschutzflächen können dabei unterschiedliche Ansichten aufeinander treffen, es kann eine Herausforderung sein, gemeinsame und geeignete Lösungen zu finden – selbst wenn die Ziele die gleichen sind.

Im Rahmen des Workshops „Mit LandwirtInnen in unserem Schutzgebiet unterwegs“ werden den TeilnehmerInnen Ansätze und Methoden präsentiert, die für die erfolgreiche Planung und Durchführung von Exkursionen für und mit LandwirtInnen im Schutzgebiet eingesetzt werden können.

END:VEVENT
END:VCALENDAR
