BEGIN:VCALENDAR
VERSION:2.0
PRODID:http://www.marmara.at/
METHOD:PUBLISH
BEGIN:VEVENT
LOCATION:Genauer Veranstaltungsort wird bei Anmeldung bekannt gegeben. 3470 - 
UID:4983
CLASS:PUBLIC
SUMMARY:Wildbienenhotels selbst bauen 
DTSTART:20191012T090000
DTEND:20191012T160000
DTSTAMP:20260425T204432Z
DESCRIPTION:Wildbienen sind wichtige Bestäuber, beispielsweise für Obstbäume. Ein Wildbienenhotel mit angebohrten Hölzern und hohlen Stängeln bietet diesen faszinierenden Tieren ein sicheres Zuhause im Garten. Eine korrekte Bauweise ist jedoch entscheidend, damit es  optimal besiedelt wird. Wie das geht, werden wir zeigen und gemeinsam in die Tat umsetzen. Außerdem erfahren Sie, worauf es bei der Förderung von Wildbienen noch ankommt.

Bitte mitbringen: Wetterfeste Kleidung und Schuhe, Jause, Schreibutensilien.

Wichtig: Die Veranstaltung findet bei jedem Wetter statt!

END:VEVENT
END:VCALENDAR
