BEGIN:VCALENDAR
VERSION:2.0
PRODID:http://www.marmara.at/
METHOD:PUBLISH
BEGIN:VEVENT
LOCATION:Nationalpark Donau-Auen bei Petronell-Carnuntum 2404  
UID:4546
CLASS:PUBLIC
SUMMARY:Den Eulen auf der Spur
DTSTART:20260306T173000
DTEND:20260306T203000
DTSTAMP:20260421T065225Z
DESCRIPTION:Im Frühjahr geht es nur um das Eine: die Balz. Während Waldohreulen-Männchen mit ihren sanften, monotonen hu-Rufreihen Weibchen zum saisonalen Brutplatz locken, reicht das Stimminventar der revierhaltenden Waldkäuze von schaurig heulenden Gesängen bis hin zu zaghaften kewitt-Rufen.

Was bedeuten diese Laute? Eine Ornithologin führt Sie durch die Geräuschkulisse der Nacht. Zudem wird die Meldeplattform ornitho.at vorgestellt. In Kooperation mit BirdLife Österreich.
Es wird warme, wetterfeste und möglichst geräuscharme Kleidung und die Mitnahme einer Stirn-/Taschenlampe empfohlen.

END:VEVENT
END:VCALENDAR
